BEGIN:VCALENDAR
VERSION:2.0
PRODID:-//UCLA / Getty Conservation - ECPv6.15.15//NONSGML v1.0//EN
CALSCALE:GREGORIAN
METHOD:PUBLISH
X-WR-CALNAME:UCLA / Getty Conservation
X-ORIGINAL-URL:https://conservation.ucla.edu
X-WR-CALDESC:Events for UCLA / Getty Conservation
REFRESH-INTERVAL;VALUE=DURATION:PT1H
X-Robots-Tag:noindex
X-PUBLISHED-TTL:PT1H
BEGIN:VTIMEZONE
TZID:America/Los_Angeles
BEGIN:DAYLIGHT
TZOFFSETFROM:-0800
TZOFFSETTO:-0700
TZNAME:PDT
DTSTART:20190310T100000
END:DAYLIGHT
BEGIN:STANDARD
TZOFFSETFROM:-0700
TZOFFSETTO:-0800
TZNAME:PST
DTSTART:20191103T090000
END:STANDARD
BEGIN:DAYLIGHT
TZOFFSETFROM:-0800
TZOFFSETTO:-0700
TZNAME:PDT
DTSTART:20200308T100000
END:DAYLIGHT
BEGIN:STANDARD
TZOFFSETFROM:-0700
TZOFFSETTO:-0800
TZNAME:PST
DTSTART:20201101T090000
END:STANDARD
BEGIN:DAYLIGHT
TZOFFSETFROM:-0800
TZOFFSETTO:-0700
TZNAME:PDT
DTSTART:20210314T100000
END:DAYLIGHT
BEGIN:STANDARD
TZOFFSETFROM:-0700
TZOFFSETTO:-0800
TZNAME:PST
DTSTART:20211107T090000
END:STANDARD
END:VTIMEZONE
BEGIN:VEVENT
DTSTART;TZID=America/Los_Angeles:20200930T110000
DTEND;TZID=America/Los_Angeles:20200930T120000
DTSTAMP:20260423T024718
CREATED:20210212T003235Z
LAST-MODIFIED:20231108T224517Z
UID:10000096-1601463600-1601467200@conservation.ucla.edu
SUMMARY:History\, Memory and Conservation: Preserving the Past for Future Generations
DESCRIPTION:Dr. Glenn Wharton\nChair\, UCLA/Getty Program in the Conservation of\nArchaeological and Ethnographic Materials \ninvites you to attend UCLA/Getty Program’s Distinguished Speaker Series featuring \nDr. Spencer Crew\n\nActing Director of the National Museum of African American\nHistory and Culture \nspeaking on \nHistory\, Memory and Conservation:\nPreserving the Past for Future Generations \nwith opening remarks by \nDr. Darnell Hunt\nDean\, UCLA Division of Social Sciences\nProfessor of Sociology and African American Studies \nWednesday\, September 30\, 2020\n11:00 a.m. – Noon PDT \nWatch the Recording Here\nAbout the speaker: Dr.  Spencer R. Crew has worked in public history institutions for more than thirty years.  He is currently the Acting Director of the National Museum of African American History and Culture. Click here to read more. \n 
URL:https://conservation.ucla.edu/event/history-memory-and-conservation-preserving-the-past-for-future-generations/
LOCATION:To Watch the Recording Please Click The Lecture Title Above
CATEGORIES:UCLA/Getty Program’s Distinguished Speaker Series
ATTACH;FMTTYPE=image/jpeg:https://conservation.ucla.edu/wp-content/uploads/2021/02/Dr-Spencer-Crew.jpg
END:VEVENT
END:VCALENDAR