BEGIN:VCALENDAR
VERSION:2.0
PRODID:-//UCLA / Getty Conservation - ECPv6.15.15//NONSGML v1.0//EN
CALSCALE:GREGORIAN
METHOD:PUBLISH
X-ORIGINAL-URL:https://conservation.ucla.edu
X-WR-CALDESC:Events for UCLA / Getty Conservation
REFRESH-INTERVAL;VALUE=DURATION:PT1H
X-Robots-Tag:noindex
X-PUBLISHED-TTL:PT1H
BEGIN:VTIMEZONE
TZID:America/Los_Angeles
BEGIN:DAYLIGHT
TZOFFSETFROM:-0800
TZOFFSETTO:-0700
TZNAME:PDT
DTSTART:20200308T100000
END:DAYLIGHT
BEGIN:STANDARD
TZOFFSETFROM:-0700
TZOFFSETTO:-0800
TZNAME:PST
DTSTART:20201101T090000
END:STANDARD
BEGIN:DAYLIGHT
TZOFFSETFROM:-0800
TZOFFSETTO:-0700
TZNAME:PDT
DTSTART:20210314T100000
END:DAYLIGHT
BEGIN:STANDARD
TZOFFSETFROM:-0700
TZOFFSETTO:-0800
TZNAME:PST
DTSTART:20211107T090000
END:STANDARD
BEGIN:DAYLIGHT
TZOFFSETFROM:-0800
TZOFFSETTO:-0700
TZNAME:PDT
DTSTART:20220313T100000
END:DAYLIGHT
BEGIN:STANDARD
TZOFFSETFROM:-0700
TZOFFSETTO:-0800
TZNAME:PST
DTSTART:20221106T090000
END:STANDARD
END:VTIMEZONE
BEGIN:VEVENT
DTSTART;TZID=America/Los_Angeles:20210518T100000
DTEND;TZID=America/Los_Angeles:20210518T110000
DTSTAMP:20260423T030750
CREATED:20210421T220123Z
LAST-MODIFIED:20231108T223401Z
UID:10000085-1621332000-1621335600@conservation.ucla.edu
SUMMARY:Spirituality and Diaspora: Considering Yoruba and Kongo Objects in Museums
DESCRIPTION:A conversation between Bárbaro Martínez-Ruiz and José Bedia\,\nModerated by Manuel Jordán \nMay 18th\, 10am – 11am PST \nRegister here \nThis program follows an exciting interdisciplinary seminar on African Objects in Museums\, where students examined a series of objects including painted Yoruba drums and Kongo minkisi. To continue discussions\, the Fowler Museum\, the Cotsen Institute of Archaeology\, the UCLA/Getty Conservation Program\, UCLA Information Studies\, and the UCLA Africa Studies Center are hosting a program where we will engage three specialists who are artists\, scholars\, and/or practitioners. The two speakers are members of the Afro-Cuban and Cuban diaspora\, respectively. \nImage credit: Fowler Museum\, X65.5837 \n 
URL:https://conservation.ucla.edu/event/spirituality-and-diaspora-considering-yoruba-and-kongo-objects-in-museums/
CATEGORIES:Conservation Conversation Series
ATTACH;FMTTYPE=image/jpeg:https://conservation.ucla.edu/wp-content/uploads/2021/04/X65.5837-1-e1619042411477.jpg
ORGANIZER;CN="Ellen Pearlstein":MAILTO:epearl@ucla.edu
END:VEVENT
END:VCALENDAR